BEGIN:VCALENDAR
VERSION:2.0
PRODID:-//ical.marudot.com//iCal Event Maker
CALSCALE:GREGORIAN
BEGIN:VTIMEZONE
TZID:America/Los_Angeles
LAST-MODIFIED:20250410T142247Z
TZURL:https://www.tzurl.org/zoneinfo-outlook/America/Los_Angeles
X-LIC-LOCATION:America/Los_Angeles
BEGIN:DAYLIGHT
TZNAME:PDT
TZOFFSETFROM:-0800
TZOFFSETTO:-0700
DTSTART:19700308T020000
RRULE:FREQ=YEARLY;BYMONTH=3;BYDAY=2SU
END:DAYLIGHT
BEGIN:STANDARD
TZNAME:PST
TZOFFSETFROM:-0700
TZOFFSETTO:-0800
DTSTART:19701101T020000
RRULE:FREQ=YEARLY;BYMONTH=11;BYDAY=1SU
END:STANDARD
END:VTIMEZONE
BEGIN:VEVENT
DTSTAMP:20260424T210648Z
UID:1777064724207-67395@ical.marudot.com
DTSTART;TZID=America/Los_Angeles:20260513T183000
DTEND;TZID=America/Los_Angeles:20260513T193000
SUMMARY:Annual General Meeting - Alberni Community Forest Corporation
LOCATION:4065 6th Ave\, Port Alberni\, BC V9Y 4P5
BEGIN:VALARM
ACTION:DISPLAY
DESCRIPTION:Annual General Meeting - Alberni Community Forest Corporation
TRIGGER:-P1D
END:VALARM
BEGIN:VALARM
ACTION:DISPLAY
DESCRIPTION:Annual General Meeting - Alberni Community Forest Corporation
TRIGGER:-PT1H
END:VALARM
END:VEVENT
END:VCALENDAR